

BEGIN:VCALENDAR
VERSION:2.0
PRODID:-//TYPO3/NONSGML TBS Event//EN
CALSCALE:GREGORIAN
METHOD:PUBLISH
BEGIN:VTIMEZONE
TZID:Europe/Berlin
BEGIN:DAYLIGHT
TZOFFSETFROM:+0100
TZOFFSETTO:+0200
TZNAME:CEST
DTSTART:19700329T020000
RRULE:FREQ=YEARLY;BYMONTH=3;BYDAY=-1SU
END:DAYLIGHT
BEGIN:STANDARD
TZOFFSETFROM:+0200
TZOFFSETTO:+0100
TZNAME:CET
DTSTART:19701025T030000
RRULE:FREQ=YEARLY;BYMONTH=10;BYDAY=-1SU
END:STANDARD
END:VTIMEZONE
BEGIN:VEVENT
UID:event-1134@nrw.dgb.de
SUMMARY:1. Mai 2026 - Aachen
DESCRIPTION:Der Demonstrationszug startet wie gewohnt um 12 Uhr vor dem Aachener Gewerkschaftshaus. Das Ziel in diesem Jahr ist erstmals der ‚Platz der Demokratie‘ (Am Büchel). Ab 13 Uhr startet dort das Kundgebungsprogramm mit unserem Mai-Redner Frank Bethke (Stellv. Landesvorsitzender Ver.di NRW). Im Anschluss daran eröffnet die Gewerkschaftsjugend ein Open-Air-Konzert mit 3 Bands aus Aachen. Über 30 Organisationen bieten die gewohnte Mischung aus Infotainment &amp; Kulinarisches an. Ein Kinderprogramm ist selbstverständlich auch wieder am Start.
LOCATION:Platz der Demokratie, Aachen
URL:https://nrw.dgb.de/veranstaltungen/veranstaltung/1-mai-2026-aachen/
DTSTART;TZID=Europe/Berlin:20260501T120000
DTEND;TZID=Europe/Berlin:20260501T170000
DTSTAMP:20260407T111925Z
END:VEVENT
END:VCALENDAR
