

BEGIN:VCALENDAR
VERSION:2.0
PRODID:-//TYPO3/NONSGML TBS Event//EN
CALSCALE:GREGORIAN
METHOD:PUBLISH
BEGIN:VTIMEZONE
TZID:Europe/Berlin
BEGIN:DAYLIGHT
TZOFFSETFROM:+0100
TZOFFSETTO:+0200
TZNAME:CEST
DTSTART:19700329T020000
RRULE:FREQ=YEARLY;BYMONTH=3;BYDAY=-1SU
END:DAYLIGHT
BEGIN:STANDARD
TZOFFSETFROM:+0200
TZOFFSETTO:+0100
TZNAME:CET
DTSTART:19701025T030000
RRULE:FREQ=YEARLY;BYMONTH=10;BYDAY=-1SU
END:STANDARD
END:VTIMEZONE
BEGIN:VEVENT
UID:event-1107@nrw.dgb.de
SUMMARY:1. Mai 2026 in Gevelsberg
DESCRIPTION:Vendomer Platz Gevelsberg: Maikundgebung
LOCATION:Vendomer Platz in Gevelsberg
URL:https://nrw.dgb.de/veranstaltungen/veranstaltung/1-mai-2026-in-gevelsberg/
DTSTART;TZID=Europe/Berlin:20260501T110000
DTEND;TZID=Europe/Berlin:20260501T140000
DTSTAMP:20260331T085835Z
END:VEVENT
END:VCALENDAR
