

BEGIN:VCALENDAR
VERSION:2.0
PRODID:-//TYPO3/NONSGML TBS Event//EN
CALSCALE:GREGORIAN
METHOD:PUBLISH
BEGIN:VTIMEZONE
TZID:Europe/Berlin
BEGIN:DAYLIGHT
TZOFFSETFROM:+0100
TZOFFSETTO:+0200
TZNAME:CEST
DTSTART:19700329T020000
RRULE:FREQ=YEARLY;BYMONTH=3;BYDAY=-1SU
END:DAYLIGHT
BEGIN:STANDARD
TZOFFSETFROM:+0200
TZOFFSETTO:+0100
TZNAME:CET
DTSTART:19701025T030000
RRULE:FREQ=YEARLY;BYMONTH=10;BYDAY=-1SU
END:STANDARD
END:VTIMEZONE
BEGIN:VEVENT
UID:event-1127@nrw.dgb.de
SUMMARY:1.Mai in Essen 2026
DESCRIPTION:Tag der Arbeit 2026: Heraus zum 1. Mai! 
“Erst unsere Jobs, dann eure Profite” ist unser Motto zum 1. Mai 2026.
LOCATION:Bugplatz, Essen
URL:https://nrw.dgb.de/veranstaltungen/veranstaltung/1mai-in-essen-2026/
DTSTART;TZID=Europe/Berlin:20260501T120000
DTEND;TZID=Europe/Berlin:20260501T153000
DTSTAMP:20260402T093037Z
END:VEVENT
END:VCALENDAR
