

BEGIN:VCALENDAR
VERSION:2.0
PRODID:-//TYPO3/NONSGML TBS Event//EN
CALSCALE:GREGORIAN
METHOD:PUBLISH
BEGIN:VTIMEZONE
TZID:Europe/Berlin
BEGIN:DAYLIGHT
TZOFFSETFROM:+0100
TZOFFSETTO:+0200
TZNAME:CEST
DTSTART:19700329T020000
RRULE:FREQ=YEARLY;BYMONTH=3;BYDAY=-1SU
END:DAYLIGHT
BEGIN:STANDARD
TZOFFSETFROM:+0200
TZOFFSETTO:+0100
TZNAME:CET
DTSTART:19701025T030000
RRULE:FREQ=YEARLY;BYMONTH=10;BYDAY=-1SU
END:STANDARD
END:VTIMEZONE
BEGIN:VEVENT
UID:event-1174@nrw.dgb.de
SUMMARY:Gegen die Ohnmacht: Cesy Leonard ruft zum Handeln auf
DESCRIPTION:GEGEN DIE OHNMACHT: Interaktive Lesung mit Cesy Leonard aus ihrem Buch „Machen Macht Mut“
LOCATION:VHS im BVZ, Lore-Agnes-Raum Bochum
URL:https://nrw.dgb.de/veranstaltungen/veranstaltung/gegen-die-ohnmacht-cesy-leonard-ruft-zum-handeln-auf/
DTSTART;TZID=Europe/Berlin:20260425T100000
DTEND;TZID=Europe/Berlin:20260425T121500
DTSTAMP:20260420T072327Z
END:VEVENT
END:VCALENDAR
