

BEGIN:VCALENDAR
VERSION:2.0
PRODID:-//TYPO3/NONSGML TBS Event//EN
CALSCALE:GREGORIAN
METHOD:PUBLISH
BEGIN:VTIMEZONE
TZID:Europe/Berlin
BEGIN:DAYLIGHT
TZOFFSETFROM:+0100
TZOFFSETTO:+0200
TZNAME:CEST
DTSTART:19700329T020000
RRULE:FREQ=YEARLY;BYMONTH=3;BYDAY=-1SU
END:DAYLIGHT
BEGIN:STANDARD
TZOFFSETFROM:+0200
TZOFFSETTO:+0100
TZNAME:CET
DTSTART:19701025T030000
RRULE:FREQ=YEARLY;BYMONTH=10;BYDAY=-1SU
END:STANDARD
END:VTIMEZONE
BEGIN:VEVENT
UID:event-1185@nrw.dgb.de
SUMMARY:GEGEN DIE OHNMACHT: Interaktive Lesung mit Cesy Leonard aus ihrem Buch „Machen Macht Mut“
DESCRIPTION:Lesung &amp; Diskussion der politischen Reihe GEGEN DEN STROM im Kulturzentrum Pelmke Hagen
LOCATION:Kulturzentrum Pelmke, Pelmkestraße 14, 58089 Hagen
URL:https://nrw.dgb.de/veranstaltungen/veranstaltung/gegen-die-ohnmacht-interaktive-lesung-mit-cesy-leonard-aus-ihrem-buch-machen-macht-mut/
DTSTART;TZID=Europe/Berlin:20260424T190000
DTEND;TZID=Europe/Berlin:20260424T211500
DTSTAMP:20260417T071932Z
END:VEVENT
END:VCALENDAR
