

BEGIN:VCALENDAR
VERSION:2.0
PRODID:-//TYPO3/NONSGML TBS Event//EN
CALSCALE:GREGORIAN
METHOD:PUBLISH
BEGIN:VTIMEZONE
TZID:Europe/Berlin
BEGIN:DAYLIGHT
TZOFFSETFROM:+0100
TZOFFSETTO:+0200
TZNAME:CEST
DTSTART:19700329T020000
RRULE:FREQ=YEARLY;BYMONTH=3;BYDAY=-1SU
END:DAYLIGHT
BEGIN:STANDARD
TZOFFSETFROM:+0200
TZOFFSETTO:+0100
TZNAME:CET
DTSTART:19701025T030000
RRULE:FREQ=YEARLY;BYMONTH=10;BYDAY=-1SU
END:STANDARD
END:VTIMEZONE
BEGIN:VEVENT
UID:event-871@nrw.dgb.de
SUMMARY:Sommercamp der DGB-Jugend NRW
DESCRIPTION:
LOCATION:Jugendbildungszentrum Hattingen, Am Homberg
URL:https://nrw.dgb.de/veranstaltungen/veranstaltung/sommercamp-der-dgb-jugend-nrw/
DTSTART;TZID=Europe/Berlin:20260604T000000
DTEND;TZID=Europe/Berlin:20260607T000000
DTSTAMP:20260202T165046Z
END:VEVENT
END:VCALENDAR
